BEGIN:VCALENDAR
VERSION:2.0
PRODID:-//Maintes et une fois - ECPv6.15.20//NONSGML v1.0//EN
CALSCALE:GREGORIAN
METHOD:PUBLISH
X-WR-CALNAME:Maintes et une fois
X-ORIGINAL-URL:https://maintesetunefois.fr
X-WR-CALDESC:Évènements pour Maintes et une fois
REFRESH-INTERVAL;VALUE=DURATION:PT1H
X-Robots-Tag:noindex
X-PUBLISHED-TTL:PT1H
BEGIN:VTIMEZONE
TZID:Europe/Paris
BEGIN:DAYLIGHT
TZOFFSETFROM:+0100
TZOFFSETTO:+0200
TZNAME:CEST
DTSTART:20250330T010000
END:DAYLIGHT
BEGIN:STANDARD
TZOFFSETFROM:+0200
TZOFFSETTO:+0100
TZNAME:CET
DTSTART:20251026T010000
END:STANDARD
BEGIN:DAYLIGHT
TZOFFSETFROM:+0100
TZOFFSETTO:+0200
TZNAME:CEST
DTSTART:20260329T010000
END:DAYLIGHT
BEGIN:STANDARD
TZOFFSETFROM:+0200
TZOFFSETTO:+0100
TZNAME:CET
DTSTART:20261025T010000
END:STANDARD
BEGIN:DAYLIGHT
TZOFFSETFROM:+0100
TZOFFSETTO:+0200
TZNAME:CEST
DTSTART:20270328T010000
END:DAYLIGHT
BEGIN:STANDARD
TZOFFSETFROM:+0200
TZOFFSETTO:+0100
TZNAME:CET
DTSTART:20271031T010000
END:STANDARD
END:VTIMEZONE
BEGIN:VEVENT
DTSTART;TZID=Europe/Paris:20260425T100000
DTEND;TZID=Europe/Paris:20260425T110000
DTSTAMP:20260425T014635
CREATED:20260325T145323Z
LAST-MODIFIED:20260331T103232Z
UID:5344-1777111200-1777114800@maintesetunefois.fr
SUMMARY:Hydroclowns Potables - Salle Jean Dasté - Rive-de-gier (42)
DESCRIPTION:UN SPECTACLE POUR PRENDRE CONSCIENCE DE L’IMPORTANCE DE L’EAU : SON ÉCONOMIE\, SA PRÉVENTION…\nBeuzno et Marie-Caroline vivent dans un environnement épuré et sec comme une biscotte.\nL’eau est devenue une denrée rare\, un vrai trésor très convoité.\nPlongez dans le quotidien de ces deux gaspilleurs d’eau\,\net prenez conscience avec eux de l’importance de cette ressource.
URL:https://maintesetunefois.fr/event/hydroclowns-potables-salle-jean-daste-rive-de-gier-42/
LOCATION:Salle Jean Daste\, 2\, rue de l’Hôtel de ville.\, Rive-de-gier\, 42800\, France
CATEGORIES:En Tournée
ATTACH;FMTTYPE=image/jpeg:https://maintesetunefois.fr/wp-content/uploads/2018/03/maintes-et-1fois-hydroclowns-potables2022.jpg
END:VEVENT
BEGIN:VEVENT
DTSTART;TZID=Europe/Paris:20260425T163000
DTEND;TZID=Europe/Paris:20260425T173000
DTSTAMP:20260425T014635
CREATED:20260325T150211Z
LAST-MODIFIED:20260331T102847Z
UID:5347-1777134600-1777138200@maintesetunefois.fr
SUMMARY:Hydroclowns Potables - Salle des Tilleuls - Burdignes (42)
DESCRIPTION:UN SPECTACLE POUR PRENDRE CONSCIENCE DE L’IMPORTANCE DE L’EAU : SON ÉCONOMIE\, SA PRÉVENTION…\nKip et Marie-Caroline vivent dans un environnement épuré et sec comme une biscotte.\nL’eau est devenue une denrée rare\, un vrai trésor très convoité.\nPlongez dans le quotidien de ces deux gaspilleurs d’eau\, et prenez conscience avec eux de l’importance de cette ressource.
URL:https://maintesetunefois.fr/event/hydroclowns-potables-salle-des-tilleuls-burdignes-42/
LOCATION:Salle des TIlleuls\, Burdignes\, 42220\, France
CATEGORIES:En Tournée
ATTACH;FMTTYPE=image/jpeg:https://maintesetunefois.fr/wp-content/uploads/2018/03/maintes-et-1fois-hydroclowns-potables2022.jpg
END:VEVENT
END:VCALENDAR